BEGIN:VCALENDAR
VERSION:2.0
PRODID:-//ChamberMaster//Event Calendar 2.0//EN
METHOD:PUBLISH
X-PUBLISHED-TTL:P3D
REFRESH-INTERVAL:P3D
CALSCALE:GREGORIAN
BEGIN:VEVENT
DTSTART;VALUE=DATE:20140325
DTEND;VALUE=DATE:20140326
TRANSP:TRANSPARENT
X-MICROSOFT-CDO-ALLDAYEVENT:TRUE
SUMMARY:Book Club
DESCRIPTION:This is a sample event for testing syncing with Google Calendar
X-ALT-DESC;FMTTYPE=text/html:This is a sample event for testing syncing with Google Calendar
LOCATION:
UID:e.2348.543
SEQUENCE:3
DTSTAMP:20260420T093534Z
URL:https://basic2348.cmstagingpublic.com/events/details/book-club-543
END:VEVENT

END:VCALENDAR
