BEGIN:VCALENDAR
VERSION:2.0
PRODID:-//ChamberMaster//Event Calendar 2.0//EN
METHOD:PUBLISH
X-PUBLISHED-TTL:P3D
REFRESH-INTERVAL:P3D
CALSCALE:GREGORIAN
BEGIN:VEVENT
DTSTART:20141115T150000Z
DTEND:20141116T000000Z
X-MICROSOFT-CDO-ALLDAYEVENT:FALSE
SUMMARY:Golf Tournament
DESCRIPTION:Sample Golf Tournament
X-ALT-DESC;FMTTYPE=text/html:Sample Golf Tournament
LOCATION:Greenhaven Golf Course
UID:e.2348.557
SEQUENCE:3
DTSTAMP:20260419T215749Z
URL:https://basic2348.cmstagingpublic.com/events/details/golf-tournament-557
END:VEVENT

END:VCALENDAR
